BEGIN:VCALENDAR
VERSION:2.0
CALSCALE:GREGORIAN
PRODID:-//WordPress//RSVPMaker//EN
METHOD:REQUEST
BEGIN:VEVENT
DTSTAMP:20260420T081106Z
UID:2823F4797102CE1A1AEC05359CC16DD9@rsvpmaker.com
SEQUENCE:0
STATUS:CONFIRMED
DTSTART:20240310T170000Z
DTEND:20240310T180000Z
LOCATION:See\: https\://gb.southernthunderhog.com/rsvpmaker/fun-day-of
 -bowling/
SUMMARY:CANCELLED: Fun day of BOWLING
DESCRIPTION:Event info\: https\://gb.southernthunderhog.com/rsvpmaker/
 fun-day-of-bowling/
END:VEVENT
END:VCALENDAR