BEGIN:VCALENDAR
VERSION:2.0
CALSCALE:GREGORIAN
PRODID:-//WordPress//RSVPMaker//EN
METHOD:REQUEST
BEGIN:VEVENT
DTSTAMP:20260420T083100Z
UID:6EA2EF7311B482724A9B7B0BC0DD85C6@rsvpmaker.com
SEQUENCE:0
STATUS:CONFIRMED
DTSTART:20240306T003000Z
DTEND:20240306T013000Z
LOCATION:See\: https\://gb.southernthunderhog.com/rsvpmaker/march-plan
 ning-meeting/
SUMMARY:March Planning Meeting
DESCRIPTION:Event info\: https\://gb.southernthunderhog.com/rsvpmaker/
 march-planning-meeting/
END:VEVENT
END:VCALENDAR