BEGIN:VCALENDAR
VERSION:2.0
CALSCALE:GREGORIAN
PRODID:-//WordPress//RSVPMaker//EN
METHOD:REQUEST
BEGIN:VEVENT
DTSTAMP:20260420T082938Z
UID:A51C896C9CB81ECB5A199D51AC9FC3C5@rsvpmaker.com
SEQUENCE:0
STATUS:CONFIRMED
DTSTART:20250802T123000Z
DTEND:20250802T133000Z
LOCATION:See\: https\://gb.southernthunderhog.com/rsvpmaker/ride-to-ma
 mmoth-springs/
SUMMARY:Ride to Mammoth Springs
DESCRIPTION:Event info\: https\://gb.southernthunderhog.com/rsvpmaker/
 ride-to-mammoth-springs/
END:VEVENT
END:VCALENDAR