BEGIN:VCALENDAR
VERSION:2.0
CALSCALE:GREGORIAN
PRODID:-//WordPress//RSVPMaker//EN
METHOD:REQUEST
BEGIN:VEVENT
DTSTAMP:20260420T083508Z
UID:DFCE06801E1A85D6D06F1FDD4475DACD@rsvpmaker.com
SEQUENCE:0
STATUS:CONFIRMED
DTSTART:20251008T230000Z
DTEND:20251009T000000Z
LOCATION:See\: https\://gb.southernthunderhog.com/rsvpmaker/st-save-th
 e-tatas-bike-night/
SUMMARY:ST Save the Tata's Bike night
DESCRIPTION:Event info\: https\://gb.southernthunderhog.com/rsvpmaker/
 st-save-the-tatas-bike-night/
END:VEVENT
END:VCALENDAR